BEGIN:VCALENDAR
VERSION:2.0
PRODID:-//ZContent.net//ZapCalLib 1.0//EN
CALSCALE:GREGORIAN
METHOD:PUBLISH
BEGIN:VEVENT
SUMMARY:<strong>Rewolucja leczenia raka platynoopornego</strong>
DTSTART:20260418T093000
DTEND:20260418T115500
UID:<strong>Rewolucja leczenia raka platynoopornego</strong>60044_177672274
 5
DTSTAMP:20260420T220545
Description:
END:VEVENT
END:VCALENDAR
