BEGIN:VCALENDAR
VERSION:2.0
PRODID:-//ZContent.net//ZapCalLib 1.0//EN
CALSCALE:GREGORIAN
METHOD:PUBLISH
BEGIN:VEVENT
SUMMARY:<strong>Wykład sponsorowany firmy GSK: </strong>Dostarlimab w pier
 wszej linii leczenia zaawansowanego/nawrotowego raka endometrium — przeg
 ląd doniesień
DTSTART:20260418T084500
DTEND:20260418T110000
UID:<strong>Wykład sponsorowany firmy GSK: </strong>Dostarlimab w pierwsze
 j linii leczenia zaawansowanego/nawrotowego raka endometrium — przegląd
  doniesień60041_1776689287
DTSTAMP:20260420T124807
Description:
END:VEVENT
END:VCALENDAR
